0.00582400
0.0
0.00
-0.00582400
-73.8450360000
45.07003600
