0.00556400
0.0
0.00
-0.00556400000
-79.4119510
41.87195100
